BEGIN:VCALENDAR
VERSION:2.0
PRODID:-//www.body-health-fitness.com - ECPv6.15.17//NONSGML v1.0//EN
CALSCALE:GREGORIAN
METHOD:PUBLISH
X-WR-CALNAME:www.body-health-fitness.com
X-ORIGINAL-URL:https://body-health-fitness.com
X-WR-CALDESC:Veranstaltungen für www.body-health-fitness.com
REFRESH-INTERVAL;VALUE=DURATION:PT1H
X-Robots-Tag:noindex
X-PUBLISHED-TTL:PT1H
BEGIN:VTIMEZONE
TZID:Europe/Berlin
BEGIN:DAYLIGHT
TZOFFSETFROM:+0100
TZOFFSETTO:+0200
TZNAME:CEST
DTSTART:20250330T010000
END:DAYLIGHT
BEGIN:STANDARD
TZOFFSETFROM:+0200
TZOFFSETTO:+0100
TZNAME:CET
DTSTART:20251026T010000
END:STANDARD
BEGIN:DAYLIGHT
TZOFFSETFROM:+0100
TZOFFSETTO:+0200
TZNAME:CEST
DTSTART:20260329T010000
END:DAYLIGHT
BEGIN:STANDARD
TZOFFSETFROM:+0200
TZOFFSETTO:+0100
TZNAME:CET
DTSTART:20261025T010000
END:STANDARD
BEGIN:DAYLIGHT
TZOFFSETFROM:+0100
TZOFFSETTO:+0200
TZNAME:CEST
DTSTART:20270328T010000
END:DAYLIGHT
BEGIN:STANDARD
TZOFFSETFROM:+0200
TZOFFSETTO:+0100
TZNAME:CET
DTSTART:20271031T010000
END:STANDARD
END:VTIMEZONE
BEGIN:VEVENT
DTSTART;TZID=Europe/Berlin:20260920T103000
DTEND;TZID=Europe/Berlin:20260920T113000
DTSTAMP:20260425T152444
CREATED:20251028T165439Z
LAST-MODIFIED:20251122T182254Z
UID:10023343-1789900200-1789903800@body-health-fitness.com
SUMMARY:"Special"
DESCRIPTION:Lasst euch einfach überraschen 😉
URL:https://body-health-fitness.com/event/special-3/2026-09-20/
LOCATION:BHF Aufderhöhe
ATTACH;FMTTYPE=image/jpeg:https://body-health-fitness.com/wp-content/uploads/2024/02/SPECIAL-KURS.jpg
END:VEVENT
BEGIN:VEVENT
DTSTART;TZID=Europe/Berlin:20260921T100000
DTEND;TZID=Europe/Berlin:20260921T110000
DTSTAMP:20260425T152444
CREATED:20251122T180808Z
LAST-MODIFIED:20251122T180808Z
UID:10017719-1789984800-1789988400@body-health-fitness.com
SUMMARY:Pilates
DESCRIPTION:Verbessert Ihre Koordination\, Beweglichkeit\, sowie Ihre Kraftausdauer und hilft Ihnen Stress abzubauen.
URL:https://body-health-fitness.com/event/pilates-3/2026-09-21/
LOCATION:BHF Aufderhöhe
ATTACH;FMTTYPE=image/jpeg:https://body-health-fitness.com/wp-content/uploads/2023/06/Kurse-Body-Health-Fitness-Solingen-7.jpg
END:VEVENT
BEGIN:VEVENT
DTSTART;TZID=Europe/Berlin:20260921T170000
DTEND;TZID=Europe/Berlin:20260921T180000
DTSTAMP:20260425T152444
CREATED:20251029T165439Z
LAST-MODIFIED:20251122T181054Z
UID:10018255-1790010000-1790013600@body-health-fitness.com
SUMMARY:Rücken-Fit
DESCRIPTION:Beugen Sie Rückenschmerzen gezielt vor und lindern Sie bestehende.
URL:https://body-health-fitness.com/event/ruecken-fit/2026-09-21/
LOCATION:BHF Aufderhöhe
ATTACH;FMTTYPE=image/jpeg:https://body-health-fitness.com/wp-content/uploads/2024/02/RUeCKENFIT-2.jpg
END:VEVENT
BEGIN:VEVENT
DTSTART;TZID=Europe/Berlin:20260921T180000
DTEND;TZID=Europe/Berlin:20260921T183000
DTSTAMP:20260425T152444
CREATED:20251029T165445Z
LAST-MODIFIED:20251122T181216Z
UID:10018791-1790013600-1790015400@body-health-fitness.com
SUMMARY:Sling
DESCRIPTION:Fördert mit Hilfe des Sling-Trainers Ihre Körperspannung und steigert die Funktionalität Ihrer Muskulatur.
URL:https://body-health-fitness.com/event/sling-3/2026-09-21/
LOCATION:BHF Aufderhöhe
ATTACH;FMTTYPE=image/jpeg:https://body-health-fitness.com/wp-content/uploads/2023/06/PMP-13-scaled-1.jpg
END:VEVENT
BEGIN:VEVENT
DTSTART;TZID=Europe/Berlin:20260921T180000
DTEND;TZID=Europe/Berlin:20260921T190000
DTSTAMP:20260425T152444
CREATED:20251029T165458Z
LAST-MODIFIED:20251122T181329Z
UID:10019327-1790013600-1790017200@body-health-fitness.com
SUMMARY:Jumpfit
DESCRIPTION:Auf dem Trampolin vergeht die Zeit wie im Flug. Sie werden enttäuscht sein\, dass bereits nach einer Stunde Schluss ist.
URL:https://body-health-fitness.com/event/jumpfit-3/2026-09-21/
LOCATION:BHF Aufderhöhe
ATTACH;FMTTYPE=image/jpeg:https://body-health-fitness.com/wp-content/uploads/2024/02/JUMPFIT.jpg
END:VEVENT
BEGIN:VEVENT
DTSTART;TZID=Europe/Berlin:20260921T190000
DTEND;TZID=Europe/Berlin:20260921T200000
DTSTAMP:20260425T152444
CREATED:20251030T045443Z
LAST-MODIFIED:20251122T181427Z
UID:10019596-1790017200-1790020800@body-health-fitness.com
SUMMARY:Jumpfit-Light
DESCRIPTION:Auf dem Trampolin vergeht die Zeit wie im Flug. Sie werden enttäuscht sein\, dass bereits nach einer Stunde Schluss ist.
URL:https://body-health-fitness.com/event/jumpfit-light-5/2026-09-21/
LOCATION:BHF Aufderhöhe
ATTACH;FMTTYPE=image/jpeg:https://body-health-fitness.com/wp-content/uploads/2024/02/JUMPFIT.jpg
END:VEVENT
BEGIN:VEVENT
DTSTART;TZID=Europe/Berlin:20260921T200000
DTEND;TZID=Europe/Berlin:20260921T210000
DTSTAMP:20260425T152444
CREATED:20251030T045456Z
LAST-MODIFIED:20251122T181513Z
UID:10020132-1790020800-1790024400@body-health-fitness.com
SUMMARY:Zumba
DESCRIPTION:Schwingen Sie zu lateinamerikanischen Rhythmen Ihre Hüften und lassen Sie die Pfunde schmelzen.
URL:https://body-health-fitness.com/event/zumba-2/2026-09-21/
LOCATION:BHF Aufderhöhe
ATTACH;FMTTYPE=image/jpeg:https://body-health-fitness.com/wp-content/uploads/2023/06/Kurse-Body-Health-Fitness-Solingen-11.jpg
END:VEVENT
BEGIN:VEVENT
DTSTART;TZID=Europe/Berlin:20260922T173000
DTEND;TZID=Europe/Berlin:20260922T183000
DTSTAMP:20260425T152444
CREATED:20251030T165439Z
LAST-MODIFIED:20251122T181651Z
UID:10021204-1790098200-1790101800@body-health-fitness.com
SUMMARY:Body Workout
DESCRIPTION:Ein Stoffwechsel anregendes Ganzkörpertraining\, mit Hilfe des eigenen Körpergewichtes und diverser Kleingeräte.
URL:https://body-health-fitness.com/event/body-workout-4-4/2026-09-22/
LOCATION:BHF Aufderhöhe
ATTACH;FMTTYPE=image/jpeg:https://body-health-fitness.com/wp-content/uploads/2024/02/SPECIAL-KURS.jpg
END:VEVENT
BEGIN:VEVENT
DTSTART;TZID=Europe/Berlin:20260922T183000
DTEND;TZID=Europe/Berlin:20260922T193000
DTSTAMP:20260425T152444
CREATED:20251030T165452Z
LAST-MODIFIED:20251122T181900Z
UID:10022002-1790101800-1790105400@body-health-fitness.com
SUMMARY:Muscle-Explosion
DESCRIPTION:Unser Klassiker\, hier fördern Sie ihre Kraft und stärken zugleich ihre Ausdauer.
URL:https://body-health-fitness.com/event/muscle-explosion-2/2026-09-22/
LOCATION:BHF Aufderhöhe
ATTACH;FMTTYPE=image/jpeg:https://body-health-fitness.com/wp-content/uploads/2024/02/STEP.jpg
END:VEVENT
BEGIN:VEVENT
DTSTART;TZID=Europe/Berlin:20260923T100000
DTEND;TZID=Europe/Berlin:20260923T110000
DTSTAMP:20260425T152444
CREATED:20251122T181818Z
LAST-MODIFIED:20251122T181818Z
UID:10021734-1790157600-1790161200@body-health-fitness.com
SUMMARY:Body Workout
DESCRIPTION:Ein Stoffwechsel anregendes Ganzkörpertraining\, mit Hilfe des eigenen Körpergewichtes und diverser Kleingeräte.
URL:https://body-health-fitness.com/event/body-workout-7/2026-09-23/
LOCATION:BHF Aufderhöhe
ATTACH;FMTTYPE=image/jpeg:https://body-health-fitness.com/wp-content/uploads/2024/02/SPECIAL-KURS.jpg
END:VEVENT
BEGIN:VEVENT
DTSTART;TZID=Europe/Berlin:20260923T110000
DTEND;TZID=Europe/Berlin:20260923T120000
DTSTAMP:20260425T152444
CREATED:20251027T165452Z
LAST-MODIFIED:20251122T182116Z
UID:10022539-1790161200-1790164800@body-health-fitness.com
SUMMARY:WSG
DESCRIPTION:Stärken und mobilisieren Sie mit gezielter Gymnastik Ihren Rücken.
URL:https://body-health-fitness.com/event/wsg-2/2026-09-23/
LOCATION:BHF Aufderhöhe
ATTACH;FMTTYPE=image/jpeg:https://body-health-fitness.com/wp-content/uploads/2023/06/Kurse-Body-Health-Fitness-Solingen-3.jpg
END:VEVENT
BEGIN:VEVENT
DTSTART;TZID=Europe/Berlin:20260923T180000
DTEND;TZID=Europe/Berlin:20260923T190000
DTSTAMP:20260425T152444
CREATED:20251101T165500Z
LAST-MODIFIED:20251122T182154Z
UID:10022807-1790186400-1790190000@body-health-fitness.com
SUMMARY:HIT
DESCRIPTION:Der Name ist Programm. 😉
URL:https://body-health-fitness.com/event/hit-2/2026-09-23/
LOCATION:BHF Aufderhöhe
ATTACH;FMTTYPE=image/jpeg:https://body-health-fitness.com/wp-content/uploads/2024/02/SPECIAL-KURS.jpg
END:VEVENT
BEGIN:VEVENT
DTSTART;TZID=Europe/Berlin:20260923T190000
DTEND;TZID=Europe/Berlin:20260923T200000
DTSTAMP:20260425T152444
CREATED:20251102T045437Z
LAST-MODIFIED:20251122T182248Z
UID:10023075-1790190000-1790193600@body-health-fitness.com
SUMMARY:Special
DESCRIPTION:Lasst euch einfach überraschen 😉
URL:https://body-health-fitness.com/event/special-3-2/2026-09-23/
LOCATION:BHF Aufderhöhe
ATTACH;FMTTYPE=image/jpeg:https://body-health-fitness.com/wp-content/uploads/2023/06/Kurse-Body-Health-Fitness-Solingen-6.jpg
END:VEVENT
BEGIN:VEVENT
DTSTART;TZID=Europe/Berlin:20260924T190000
DTEND;TZID=Europe/Berlin:20260924T200000
DTSTAMP:20260425T152444
CREATED:20251103T045441Z
LAST-MODIFIED:20251122T181504Z
UID:10019864-1790276400-1790280000@body-health-fitness.com
SUMMARY:Zumba
DESCRIPTION:Schwingen Sie zu lateinamerikanischen Rhythmen Ihre Hüften und lassen Sie die Pfunde schmelzen.
URL:https://body-health-fitness.com/event/zumba-2-2/2026-09-24/
LOCATION:BHF Aufderhöhe
ATTACH;FMTTYPE=image/jpeg:https://body-health-fitness.com/wp-content/uploads/2023/06/Kurse-Body-Health-Fitness-Solingen-11.jpg
END:VEVENT
BEGIN:VEVENT
DTSTART;TZID=Europe/Berlin:20260924T190000
DTEND;TZID=Europe/Berlin:20260924T200000
DTSTAMP:20260425T152444
CREATED:20251103T045449Z
LAST-MODIFIED:20251122T181308Z
UID:10019059-1790276400-1790280000@body-health-fitness.com
SUMMARY:Jumpfit
DESCRIPTION:Auf dem Trampolin vergeht die Zeit wie im Flug. Sie werden enttäuscht sein\, dass bereits nach einer Stunde Schluss ist.
URL:https://body-health-fitness.com/event/jumpfit-3-2/2026-09-24/
LOCATION:BHF Aufderhöhe
ATTACH;FMTTYPE=image/jpeg:https://body-health-fitness.com/wp-content/uploads/2024/02/JUMPFIT.jpg
END:VEVENT
BEGIN:VEVENT
DTSTART;TZID=Europe/Berlin:20260925T093000
DTEND;TZID=Europe/Berlin:20260925T103000
DTSTAMP:20260425T152444
CREATED:20251103T165438Z
LAST-MODIFIED:20251122T181559Z
UID:10020400-1790328600-1790332200@body-health-fitness.com
SUMMARY:Body Workout
DESCRIPTION:Ein Stoffwechsel anregendes Ganzkörpertraining\, mit Hilfe des eigenen Körpergewichtes und diverser Kleingeräte.
URL:https://body-health-fitness.com/event/body-workout-4-2/2026-09-25/
LOCATION:BHF Aufderhöhe
ATTACH;FMTTYPE=image/jpeg:https://body-health-fitness.com/wp-content/uploads/2024/02/SPECIAL-KURS.jpg
END:VEVENT
BEGIN:VEVENT
DTSTART;TZID=Europe/Berlin:20260925T103000
DTEND;TZID=Europe/Berlin:20260925T113000
DTSTAMP:20260425T152444
CREATED:20251103T165451Z
LAST-MODIFIED:20251122T182328Z
UID:10023611-1790332200-1790335800@body-health-fitness.com
SUMMARY:Stretch & Relax
DESCRIPTION:Hier fördern Sie Ihre Beweglichkeit und lösen Verspannungen für einen entspannten Start in den Tag.
URL:https://body-health-fitness.com/event/stretch-relax-3/2026-09-25/
LOCATION:BHF Aufderhöhe
ATTACH;FMTTYPE=image/jpeg:https://body-health-fitness.com/wp-content/uploads/2024/02/Stretch-Relax.jpg
END:VEVENT
BEGIN:VEVENT
DTSTART;TZID=Europe/Berlin:20260925T180000
DTEND;TZID=Europe/Berlin:20260925T193000
DTSTAMP:20260425T152444
CREATED:20251103T165512Z
LAST-MODIFIED:20251122T182521Z
UID:10024682-1790359200-1790364600@body-health-fitness.com
SUMMARY:Yoga
DESCRIPTION:Lassen Sie den Alltagsstress hinter sich\, während Sie Ihre Beweglichkeit fördern und Verspannungen lösen.
URL:https://body-health-fitness.com/event/yoga-4-3/2026-09-25/
LOCATION:BHF Aufderhöhe
ATTACH;FMTTYPE=image/jpeg:https://body-health-fitness.com/wp-content/uploads/2024/02/Yoga-in-Solingen-Body-Health-Fitness.jpg
END:VEVENT
BEGIN:VEVENT
DTSTART;TZID=Europe/Berlin:20260926T101500
DTEND;TZID=Europe/Berlin:20260926T111500
DTSTAMP:20260425T152444
CREATED:20251104T165438Z
LAST-MODIFIED:20251122T182440Z
UID:10024148-1790417700-1790421300@body-health-fitness.com
SUMMARY:Fat-Burn
DESCRIPTION:Der Name ist Programm 😉
URL:https://body-health-fitness.com/event/fat-burn-2-2/2026-09-26/
LOCATION:BHF Aufderhöhe
ATTACH;FMTTYPE=image/jpeg:https://body-health-fitness.com/wp-content/uploads/2023/06/Kurse-Body-Health-Fitness-Solingen-6.jpg
END:VEVENT
BEGIN:VEVENT
DTSTART;TZID=Europe/Berlin:20260926T111500
DTEND;TZID=Europe/Berlin:20260926T121500
DTSTAMP:20260425T152444
CREATED:20251104T165451Z
LAST-MODIFIED:20251122T182034Z
UID:10022270-1790421300-1790424900@body-health-fitness.com
SUMMARY:WSG
DESCRIPTION:Stärken und mobilisieren Sie mit gezielter Gymnastik Ihren Rücken.
URL:https://body-health-fitness.com/event/wsg-2-2/2026-09-26/
LOCATION:BHF Aufderhöhe
ATTACH;FMTTYPE=image/jpeg:https://body-health-fitness.com/wp-content/uploads/2023/06/Kurse-Body-Health-Fitness-Solingen-3.jpg
END:VEVENT
BEGIN:VEVENT
DTSTART;TZID=Europe/Berlin:20260927T103000
DTEND;TZID=Europe/Berlin:20260927T113000
DTSTAMP:20260425T152444
CREATED:20251028T165439Z
LAST-MODIFIED:20251122T182254Z
UID:10023344-1790505000-1790508600@body-health-fitness.com
SUMMARY:"Special"
DESCRIPTION:Lasst euch einfach überraschen 😉
URL:https://body-health-fitness.com/event/special-3/2026-09-27/
LOCATION:BHF Aufderhöhe
ATTACH;FMTTYPE=image/jpeg:https://body-health-fitness.com/wp-content/uploads/2024/02/SPECIAL-KURS.jpg
END:VEVENT
BEGIN:VEVENT
DTSTART;TZID=Europe/Berlin:20260928T100000
DTEND;TZID=Europe/Berlin:20260928T110000
DTSTAMP:20260425T152444
CREATED:20251122T180808Z
LAST-MODIFIED:20251122T180808Z
UID:10017720-1790589600-1790593200@body-health-fitness.com
SUMMARY:Pilates
DESCRIPTION:Verbessert Ihre Koordination\, Beweglichkeit\, sowie Ihre Kraftausdauer und hilft Ihnen Stress abzubauen.
URL:https://body-health-fitness.com/event/pilates-3/2026-09-28/
LOCATION:BHF Aufderhöhe
ATTACH;FMTTYPE=image/jpeg:https://body-health-fitness.com/wp-content/uploads/2023/06/Kurse-Body-Health-Fitness-Solingen-7.jpg
END:VEVENT
BEGIN:VEVENT
DTSTART;TZID=Europe/Berlin:20260928T170000
DTEND;TZID=Europe/Berlin:20260928T180000
DTSTAMP:20260425T152444
CREATED:20251029T165439Z
LAST-MODIFIED:20251122T181054Z
UID:10018256-1790614800-1790618400@body-health-fitness.com
SUMMARY:Rücken-Fit
DESCRIPTION:Beugen Sie Rückenschmerzen gezielt vor und lindern Sie bestehende.
URL:https://body-health-fitness.com/event/ruecken-fit/2026-09-28/
LOCATION:BHF Aufderhöhe
ATTACH;FMTTYPE=image/jpeg:https://body-health-fitness.com/wp-content/uploads/2024/02/RUeCKENFIT-2.jpg
END:VEVENT
BEGIN:VEVENT
DTSTART;TZID=Europe/Berlin:20260928T180000
DTEND;TZID=Europe/Berlin:20260928T183000
DTSTAMP:20260425T152444
CREATED:20251029T165445Z
LAST-MODIFIED:20251122T181216Z
UID:10018792-1790618400-1790620200@body-health-fitness.com
SUMMARY:Sling
DESCRIPTION:Fördert mit Hilfe des Sling-Trainers Ihre Körperspannung und steigert die Funktionalität Ihrer Muskulatur.
URL:https://body-health-fitness.com/event/sling-3/2026-09-28/
LOCATION:BHF Aufderhöhe
ATTACH;FMTTYPE=image/jpeg:https://body-health-fitness.com/wp-content/uploads/2023/06/PMP-13-scaled-1.jpg
END:VEVENT
BEGIN:VEVENT
DTSTART;TZID=Europe/Berlin:20260928T180000
DTEND;TZID=Europe/Berlin:20260928T190000
DTSTAMP:20260425T152444
CREATED:20251029T165458Z
LAST-MODIFIED:20251122T181329Z
UID:10019328-1790618400-1790622000@body-health-fitness.com
SUMMARY:Jumpfit
DESCRIPTION:Auf dem Trampolin vergeht die Zeit wie im Flug. Sie werden enttäuscht sein\, dass bereits nach einer Stunde Schluss ist.
URL:https://body-health-fitness.com/event/jumpfit-3/2026-09-28/
LOCATION:BHF Aufderhöhe
ATTACH;FMTTYPE=image/jpeg:https://body-health-fitness.com/wp-content/uploads/2024/02/JUMPFIT.jpg
END:VEVENT
BEGIN:VEVENT
DTSTART;TZID=Europe/Berlin:20260928T190000
DTEND;TZID=Europe/Berlin:20260928T200000
DTSTAMP:20260425T152444
CREATED:20251030T045443Z
LAST-MODIFIED:20251122T181427Z
UID:10019597-1790622000-1790625600@body-health-fitness.com
SUMMARY:Jumpfit-Light
DESCRIPTION:Auf dem Trampolin vergeht die Zeit wie im Flug. Sie werden enttäuscht sein\, dass bereits nach einer Stunde Schluss ist.
URL:https://body-health-fitness.com/event/jumpfit-light-5/2026-09-28/
LOCATION:BHF Aufderhöhe
ATTACH;FMTTYPE=image/jpeg:https://body-health-fitness.com/wp-content/uploads/2024/02/JUMPFIT.jpg
END:VEVENT
BEGIN:VEVENT
DTSTART;TZID=Europe/Berlin:20260928T200000
DTEND;TZID=Europe/Berlin:20260928T210000
DTSTAMP:20260425T152444
CREATED:20251030T045456Z
LAST-MODIFIED:20251122T181513Z
UID:10020133-1790625600-1790629200@body-health-fitness.com
SUMMARY:Zumba
DESCRIPTION:Schwingen Sie zu lateinamerikanischen Rhythmen Ihre Hüften und lassen Sie die Pfunde schmelzen.
URL:https://body-health-fitness.com/event/zumba-2/2026-09-28/
LOCATION:BHF Aufderhöhe
ATTACH;FMTTYPE=image/jpeg:https://body-health-fitness.com/wp-content/uploads/2023/06/Kurse-Body-Health-Fitness-Solingen-11.jpg
END:VEVENT
BEGIN:VEVENT
DTSTART;TZID=Europe/Berlin:20260929T173000
DTEND;TZID=Europe/Berlin:20260929T183000
DTSTAMP:20260425T152444
CREATED:20251030T165439Z
LAST-MODIFIED:20251122T181651Z
UID:10021205-1790703000-1790706600@body-health-fitness.com
SUMMARY:Body Workout
DESCRIPTION:Ein Stoffwechsel anregendes Ganzkörpertraining\, mit Hilfe des eigenen Körpergewichtes und diverser Kleingeräte.
URL:https://body-health-fitness.com/event/body-workout-4-4/2026-09-29/
LOCATION:BHF Aufderhöhe
ATTACH;FMTTYPE=image/jpeg:https://body-health-fitness.com/wp-content/uploads/2024/02/SPECIAL-KURS.jpg
END:VEVENT
BEGIN:VEVENT
DTSTART;TZID=Europe/Berlin:20260929T183000
DTEND;TZID=Europe/Berlin:20260929T193000
DTSTAMP:20260425T152444
CREATED:20251030T165452Z
LAST-MODIFIED:20251122T181900Z
UID:10022003-1790706600-1790710200@body-health-fitness.com
SUMMARY:Muscle-Explosion
DESCRIPTION:Unser Klassiker\, hier fördern Sie ihre Kraft und stärken zugleich ihre Ausdauer.
URL:https://body-health-fitness.com/event/muscle-explosion-2/2026-09-29/
LOCATION:BHF Aufderhöhe
ATTACH;FMTTYPE=image/jpeg:https://body-health-fitness.com/wp-content/uploads/2024/02/STEP.jpg
END:VEVENT
BEGIN:VEVENT
DTSTART;TZID=Europe/Berlin:20260930T100000
DTEND;TZID=Europe/Berlin:20260930T110000
DTSTAMP:20260425T152444
CREATED:20251122T181818Z
LAST-MODIFIED:20251122T181818Z
UID:10021735-1790762400-1790766000@body-health-fitness.com
SUMMARY:Body Workout
DESCRIPTION:Ein Stoffwechsel anregendes Ganzkörpertraining\, mit Hilfe des eigenen Körpergewichtes und diverser Kleingeräte.
URL:https://body-health-fitness.com/event/body-workout-7/2026-09-30/
LOCATION:BHF Aufderhöhe
ATTACH;FMTTYPE=image/jpeg:https://body-health-fitness.com/wp-content/uploads/2024/02/SPECIAL-KURS.jpg
END:VEVENT
END:VCALENDAR